BEGIN:VCALENDAR
VERSION:2.0
PRODID:-//wp-events-plugin.com//7.2.3.1//EN
TZID:Europe/Paris
X-WR-TIMEZONE:Europe/Paris
BEGIN:VEVENT
UID:841@marinecarree.fr
DTSTART;TZID=Europe/Paris:20260521T180000
DTEND;TZID=Europe/Paris:20260521T190000
DTSTAMP:20260306T172608Z
URL:https://marinecarree.fr/evenements/yoga-pour-le-personnel-chu-bretonne
 au-2025-09-04-2025-09-11-2025-09-18-2025-09-25-2025-10-02-2025-10-09-2025-
 10-16-2025-10-23-2025-10-30-2025-11-06-2025-11-13-2025-11-20-2025-11-27-20
 25-14-2026-05-21/
SUMMARY:Yoga pour le personnel / CHU Bretonneau
DESCRIPTION:
ATTACH;FMTTYPE=image/jpeg:https://marinecarree.fr/wp-content/uploads/2026/
 03/holi-carma-yoga-chu-bretonneau-scaled-e1772817672106.jpeg
CATEGORIES:Cours de yoga
END:VEVENT
BEGIN:VTIMEZONE
TZID:Europe/Paris
X-LIC-LOCATION:Europe/Paris
BEGIN:DAYLIGHT
DTSTART:20260329T030000
TZOFFSETFROM:+0100
TZOFFSETTO:+0200
TZNAME:CEST
END:DAYLIGHT
END:VTIMEZONE
END:VCALENDAR