BEGIN:VCALENDAR
VERSION:2.0
PRODID:-//wp-events-plugin.com//7.2.3.1//EN
TZID:Europe/Paris
X-WR-TIMEZONE:Europe/Paris
BEGIN:VEVENT
UID:801@marinecarree.fr
DTSTART;TZID=Europe/Paris:20260530T160000
DTEND;TZID=Europe/Paris:20260530T173000
DTSTAMP:20260311T121337Z
URL:https://marinecarree.fr/evenements/yoga-cloitre-psalette-30-05-2026-ap
 res-midi/
SUMMARY:Yoga au Cloître de la Psalette
DESCRIPTION:Pour la première fois\, le yoga entre au Cloître de la Psalet
 te. \n\nNiché à côté de la Cathédrale Saint-Gatien\, le Cloître de 
 la Psalette est l'un des trésors cachés de Tours. Ses arcades de pierre\
 , son silence et sa lumière en font un lieu d'exception pour une pratique
  de yoga unique. Je vous invite à vivre une séance dans ce cadre hors du
  commun : un moment suspendu entre histoire et présence\, au cœur du pat
 rimoine tourangeau.\nLA SÉANCE\nUne séance de Hatha Yoga accessible à t
 ous\, pensée pour le lieu : ancrage\, respiration\, lâcher-prise. La mag
 ie de l'endroit fait le reste.\nINFOS PRATIQUES\n Samedi 30 mai 2025 — 1
 6h à 17h30\n\n Cloître de la Psalette — Cathédrale Saint-Gatien\, Rue
  Lavoisier\,\n37000 TOURS\n\n 20€ (à régler sur place au guichet du Cl
 oître)\n\n 15 places max.\n\n Tous niveaux — débutant(e)s bienvenu(e)s
 \nA Apporter\n\n 	Votre tapis de yoga\n 	Une tenue confortable\n 	Une peti
 te couverture ou un plaid pour la relaxation (le lieu est en pierre\, il p
 eut faire frais)\n 	Une bouteille d'eau\n\nAccessibilité\nLe Cloître est
  accessible aux personnes à mobilité réduite. En revanche\, la séance 
 de yoga se déroule dans un espace accessible uniquement par des escaliers
 . Merci de nous contacter en amont si vous avez des questions.\nAccès\nL'
 accès au Cloître de la Psalette se fait à l'intérieur de la Cathédral
 e Saint-Gatien\, en plein cœur de Tours. Stationnement possible dans les 
 rues environnantes ou au parking de la Cathédrale.\nimportant\n\n 	Les pl
 aces sont limitées à 15 personnes\, la réservation est obligatoire\n 	M
 erci d'arriver 10 minutes avant le début de la séance\n 	En cas d'annula
 tion\, merci de prévenir au moins 48h à l'avance pour libérer votre pla
 ce\n\nRéservation\n[bookingactivities_form form="20"]
ATTACH;FMTTYPE=image/jpeg:https://marinecarree.fr/wp-content/uploads/2026/
 03/7F8D5447-4A63-43C4-9A31-C84A3256BAD3-scaled.jpg
CATEGORIES:Cloitre de la Psalette,Cours de yoga,Yoga &amp; Patrimoine
LOCATION:Cloître de Psalette - Cathédrale Saint Gatien\, Rue lavoisier\, 
 Tours\, 37000\, Centre Val de Loire\, France
GEO:47.396108;0.693421
X-APPLE-STRUCTURED-LOCATION;VALUE=URI;X-ADDRESS=Rue lavoisier\, Tours\, 370
 00\, Centre Val de Loire\, France;X-APPLE-RADIUS=100;X-TITLE=Cloître de P
 salette - Cathédrale Saint Gatien:geo:47.396108,0.693421
END:VEVENT
BEGIN:VTIMEZONE
TZID:Europe/Paris
X-LIC-LOCATION:Europe/Paris
BEGIN:DAYLIGHT
DTSTART:20260329T030000
TZOFFSETFROM:+0100
TZOFFSETTO:+0200
TZNAME:CEST
END:DAYLIGHT
END:VTIMEZONE
END:VCALENDAR