BEGIN:VCALENDAR
VERSION:2.0
PRODID:-//wp-events-plugin.com//7.2.3.1//EN
TZID:Europe/Paris
X-WR-TIMEZONE:Europe/Paris
BEGIN:VEVENT
UID:802@marinecarree.fr
DTSTART;TZID=Europe/Paris:20260531T160000
DTEND;TZID=Europe/Paris:20260531T173000
DTSTAMP:20260310T213953Z
URL:https://marinecarree.fr/evenements/yoga-cloitre-de-la-psalette-31-05-2
 026/
SUMMARY:Yoga au Cloître de la Psalette
DESCRIPTION:Pour la première fois\, le yoga entre au Cloître de la Psalet
 te. Niché à côté de la Cathédrale Saint-Gatien\, le Cloître de la P
 salette est l'un des trésors cachés de Tours. Ses arcades de pierre\, so
 n silence et sa lumière en font un lieu d'exception pour une pratique de 
 yoga unique. Je vous invite à vivre une séance dans ce cadre hors du com
 mun : un moment suspendu entre histoire et présence\, au cœur du patrimo
 ine tourangeau.		\n					LA SÉANCE				\n		 Une séance de Hatha Yoga acce
 ssible à tous\, pensée pour le lieu : ancrage\, respiration\, lâcher-pr
 ise. La magie de l'endroit fait le reste.		\n					 INFOS PRATIQUES				\n		
  Samedi 30 mai à 10h et 16h et 31 mai 2025 de 16h à 17h30 Cloître de la
  Psalette — Cathédrale Saint-Gatien\, Rue Lavoisier\,37000 TOURS 20€ 
 (à régler sur place au guichet du Cloître) 15 places max. Tous niveaux 
 — débutant(e)s bienvenu(e)s		\n					A Apporter				\n		Votre tapis de yo
 gaUne tenue confortableUne petite couverture ou un plaid pour la relaxatio
 n (le lieu est en pierre\, il peut faire frais)Une bouteille d'eau		\n				
 	Accessibilité				\n		Le Cloître est accessible aux personnes à mobilit
 é réduite. En revanche\, la séance de yoga se déroule dans un espace a
 ccessible uniquement par des escaliers. Merci de nous contacter en amont s
 i vous avez des questions.		\n					Accès				\n		L'accès au Cloître de l
 a Psalette se fait à l'intérieur de la Cathédrale Saint-Gatien\, en ple
 in cœur de Tours. Stationnement possible dans les rues environnantes ou a
 u parking de la Cathédrale.		\n					important				\n		Les places sont limi
 tées à 15 personnes\, la réservation est obligatoireMerci d'arriver 10 
 minutes avant le début de la séanceEn cas d'annulation\, merci de préve
 nir au moins 48h à l'avance pour libérer votre place		\n					Réservatio
 n				\n		[bookingactivities_form form="20"]
ATTACH;FMTTYPE=image/jpeg:https://marinecarree.fr/wp-content/uploads/2026/
 03/7F8D5447-4A63-43C4-9A31-C84A3256BAD3-scaled.jpg
CATEGORIES:Cloitre de la Psalette,Cours de yoga,Yoga &amp; Patrimoine
LOCATION:Cloître de Psalette - Cathédrale Saint Gatien\, Rue lavoisier\, 
 Tours\, 37000\, Centre Val de Loire\, France
GEO:47.396108;0.693421
X-APPLE-STRUCTURED-LOCATION;VALUE=URI;X-ADDRESS=Rue lavoisier\, Tours\, 370
 00\, Centre Val de Loire\, France;X-APPLE-RADIUS=100;X-TITLE=Cloître de P
 salette - Cathédrale Saint Gatien:geo:47.396108,0.693421
END:VEVENT
BEGIN:VTIMEZONE
TZID:Europe/Paris
X-LIC-LOCATION:Europe/Paris
BEGIN:DAYLIGHT
DTSTART:20260329T030000
TZOFFSETFROM:+0100
TZOFFSETTO:+0200
TZNAME:CEST
END:DAYLIGHT
END:VTIMEZONE
END:VCALENDAR