BEGIN:VCALENDAR
VERSION:2.0
PRODID:-//wp-events-plugin.com//7.2.3.1//EN
TZID:Europe/Paris
X-WR-TIMEZONE:Europe/Paris
BEGIN:VEVENT
UID:24@marinecarree.fr
DTSTART;TZID=Europe/Paris:20230829T191500
DTEND;TZID=Europe/Paris:20230829T201500
DTSTAMP:20230821T175150Z
URL:https://marinecarree.fr/evenements/seance-de-yoga-decouverte-a-la-wond
 er-mom-academy/
SUMMARY:Découverte yoga à la Wonder Mom Academy
DESCRIPTION:Tu hésites encore à t'inscrire à la Wonder Mom Academy à la
  rentrée ?\n\nTu as envie de te mettre au yoga mais tu ne sais pas si c'e
 st pour toi ?\n\nTu as besoin d'essayer avant de t'engager ?\n\nEt si tu v
 enais découvrir ce lieu unique lors d'un cours découverte ?\n\n&nbsp\;\n
 \nPour répondre à toutes ces interrogations\, nous ouvrons les portes de
  la Wonder Mom Academy le mardi 29 août pour te permettre de découvrir l
 es cours que yoga que je vais y donner à partir du 4 septembre !\n\nLe no
 mbre de place est limité alors penses à vite t'inscrire pour être sûr 
 de ne pas louper cette occasion.\n\nLe cours sera au tarif unique de 5€ 
 par personne\, n'attend plus et inscris-toi.\n\nCours de découverte\, tap
 is à disposition sur place.\n\n&nbsp\;\n\nInfo pratiques :\n\n 	Mardi 29 
 août - de 19h15 à 20h15\n 	Tarif : 5€\n 	Paiement : espèce\, virement
  (PayPal\, paylib\, Lydia)\n 	Adresse : 1 rue du Maréchal Lyautey\, 37000
 \, Tours\n
ATTACH;FMTTYPE=image/jpeg:https://marinecarree.fr/wp-content/uploads/2023/
 08/Article-blog-WMA-2.jpg
CATEGORIES:Cours de yoga
LOCATION:Wonder Mom Academy\, Wonder Mom Academy\, 1 rue du Maréchal Lyaut
 ey\, Tours\, 37000\, France
GEO:47.376165;0.67994
X-APPLE-STRUCTURED-LOCATION;VALUE=URI;X-ADDRESS=Wonder Mom Academy\, 1 rue 
 du Maréchal Lyautey\, Tours\, 37000\, France;X-APPLE-RADIUS=100;X-TITLE=W
 onder Mom Academy:geo:47.376165,0.67994
END:VEVENT
BEGIN:VTIMEZONE
TZID:Europe/Paris
X-LIC-LOCATION:Europe/Paris
BEGIN:DAYLIGHT
DTSTART:20230326T030000
TZOFFSETFROM:+0100
TZOFFSETTO:+0200
TZNAME:CEST
END:DAYLIGHT
END:VTIMEZONE
END:VCALENDAR