BEGIN:VCALENDAR
VERSION:2.0
PRODID:-//wp-events-plugin.com//7.2.3.1//EN
TZID:Europe/Paris
X-WR-TIMEZONE:Europe/Paris
BEGIN:VEVENT
UID:947@marinecarree.fr
DTSTART;TZID=Europe/Paris:20260705T110000
DTEND;TZID=Europe/Paris:20260705T170000
DTSTAMP:20260421T153313Z
URL:https://marinecarree.fr/evenements/journee-bien-etre-val-sauvage/
SUMMARY:Journée bien-être au Domaine du Val Sauvage - Yoga\, cuisine viva
 nte & SPA
DESCRIPTION:Une journée entière pour soi\, dans l'écrin du Domaine du Va
 l Sauvage\, à deux pas de Langeais. Un rendez-vous pensé comme une paren
 thèse : commencer par le tapis\, poursuivre autour d'une table qui nourri
 t vraiment\, terminer dans l'eau et le silence du SPA.Trois temps qui se r
 épondent\, trois façons de revenir à soi. Le déroulé de la journée
 🌿 11h — 12h · Cours de yoga Animé par Marine — Holi Carma YogaUne
  heure de pratique posturale douce et progressive\, en lien avec le cadre 
 du domaine. Accessible à tous les niveaux\, y compris débutants. Tapis e
 t accessoires fournis sur place.🥗 12h30 — 14h30 · Déjeuner vivant P
 réparé par Amy\, naturopathe — Amy RessourcerieUn repas composé d'ali
 ments vivants\, de saison\, pensé pour réconcilier plaisir et équilibre
 . Amy partage ses choix et ses intuitions de naturopathe tout au long du d
 éjeuner\, pour celles et ceux qui souhaitent échanger.💧 14h30 — 17h
  · Accès SPA &amp\; piscine Au Domaine du Val SauvageLe reste de l'aprè
 s-midi vous appartient. Profitez librement de la piscine et des installati
 ons bien-être du domaine jusqu'à 17h : un temps pour laisser le corps in
 tégrer la pratique du matin et la digestion. Pourquoi cette journée ?Il
  y a des prestations qu'on additionne\, et il y a celles qui se complèten
 t vraiment. C'est l'intention derrière cette journée : que chaque temps 
 prépare le suivant\, et qu'à la fin\, ce ne soit pas trois activités ju
 xtaposées\, mais une seule expérience cohérente.Le yoga pour installer 
 la présence. Le repas d'Amy pour continuer\, à table\, ce qu'on a commen
 cé sur le tapis — prendre soin\, simplement. Le SPA pour que le corps a
 it le temps\, vraiment\, d'intégrer.Le Domaine du Val Sauvage offre le ca
 dre idéal pour cela : un environnement préservé\, loin de l'agitation\,
  où l'on peut se déposer sans avoir à se déplacer entre plusieurs lieu
 x. Tout est là\, sur place\, de 11h à 17h. TarifsPrestationTarifCours d
 e yoga (1h)17 €Déjeuner naturopathe (Amy Ressourcerie)27 €Accès SPA 
 &amp\; piscine (jusqu'à 17h)25 €Journée complète69 €Règlement sur 
 place le jour de l'événement (espèces ou CB selon prestataire). Inform
 ations pratiquesÀ prévoir :Tenue confortable pour le yoga + tapisMaillot
  de bain &amp\; serviette pour le SPABon à savoir :Places limitées pour 
 garantir la qualité de l'accueilLe cours de yoga est accessible aux débu
 tantsRégimes alimentaires particuliers : merci de le signaler à la rése
 rvation pour qu'Amy puisse en tenir compteAccès : Domaine du Val Sauvage 
 — 1145 Chemin des Archers\, 37130\, Langeais\, Touraine. Parking sur pla
 ce. Avec qui ?Marine — Holi Carma Yoga\, Professeure de yoga certifiée
 \, formée en Inde\, j'enseigne depuis 2019 à Tours et en Touraine.Amy 
 — La Ressourcerie d'Amy naturopathe accompagne les femmes souffrant de t
 roubles digestifs\, de stress ou de difficultés alimentaires à apaiser l
 eur relation à l’alimentation\, au corps et au ventre\, grâce à une a
 pproche globale mêlant naturopathie\, psychonutrition\, réflexologie\, 
 massages et cuisine vivante.Le Domaine du Val Sauvage\, Maison d'hôtes in
 solite avec piscine et bain nordique chauffé en pleine forêt. Découvrir
  le Domaine.
ATTACH;FMTTYPE=image/jpeg:https://marinecarree.fr/wp-content/uploads/2026/
 04/45f3ab_fa8cc6850ee0411cabb4cd1caf1509cemv2.jpg
CATEGORIES:Cours de yoga,Edition spéciale,Yoga x Brunch
LOCATION:Domaine du Val Sauvage\, 1145 Chemin des Archers\, Langeais\, 3713
 0\, Centre-Val de loire\, France
GEO:47.347756;0.420611
X-APPLE-STRUCTURED-LOCATION;VALUE=URI;X-ADDRESS=1145 Chemin des Archers\, L
 angeais\, 37130\, Centre-Val de loire\, France;X-APPLE-RADIUS=100;X-TITLE=
 Domaine du Val Sauvage:geo:47.347756,0.420611
END:VEVENT
BEGIN:VTIMEZONE
TZID:Europe/Paris
X-LIC-LOCATION:Europe/Paris
BEGIN:DAYLIGHT
DTSTART:20260329T030000
TZOFFSETFROM:+0100
TZOFFSETTO:+0200
TZNAME:CEST
END:DAYLIGHT
END:VTIMEZONE
END:VCALENDAR