BEGIN:VCALENDAR
VERSION:2.0
PRODID:-//wp-events-plugin.com//7.2.3.1//EN
TZID:Europe/Paris
X-WR-TIMEZONE:Europe/Paris
BEGIN:VEVENT
UID:395@marinecarree.fr
DTSTART;TZID=Europe/Paris:20250315T100000
DTEND;TZID=Europe/Paris:20250315T123000
DTSTAMP:20250224T095503Z
URL:https://marinecarree.fr/evenements/atelier-mensuel-mars-vinyasa-flow/
SUMMARY:Atelier mensuel Mars - Vinyasa Flow
DESCRIPTION:\nRdv samedi de 10h à 12h30 à côté du jardin des Prébendes
  pour l'atelier d'approfondissement mensuel !\nAu programme 2h30 de prati
 que mêlant les différentes facettes du yoga durant lesquelles vous sere
 z invité à explorer vos possibilités sans attente ainsi qu’à découv
 rir la force intérieure qui réside en vous ✨\n\nCet atelier est pour 
 toi si :\n\n 	 Tu aimes les pratiques dynamiques qui mettent en mouvement
  le corps et libèrent l’esprit\n 	Tu manques d'énergie et d’élan ce
 s derniers temps et que tu as besoin d’être reboosté\n 	Tu as du mal 
 à lâcher prise\, tu as tendance à être dur avec toi même\n 	Tu as env
 ie d’aller plus loin dans ta pratique du yoga\, d’explorer des posture
 s et techniques de respirations plus avancées\n 	Tu as simplement envie d
 e t’offrir un moment de bien être et de décompression loin du stress d
 u quotidien\n\nAlors prêt.e à participer au prochain atelier avec moi ?
  ✨\n\nLe nombre de place est limité alors si tu es tenté ne tarde pas
  à t’inscrire :)\nInformations pratiques\nCet atelier est ouverts à to
 us\, qu'importe ton niveau\, que tu sois débutant ou confirmé\, des opti
 ons sont proposées en fonction des possibilités de chacun.\n\nCe dont vo
 us avez besoin :\n\n 	votre tapis et une tenue confortable\n 	un plaid év
 entuellement pour la relaxation (je peux en prêter si demande faite en am
 ont)\n 	votre ouverture d'esprit et la volonté d'explorer les profondeurs
  de votre être.\n\nEn cas de question me contacter directement.\n\nWC et 
 point d'eau sur place\n\nNombre de place limité\, réservations en ligne 
 obligatoire\nDéroulement de l'atelier\nOuverture des portes à 9h45\, boi
 sson chaude à disposition en arrivant.\n\n 	Installation / présentation 
 de l'atelier\n 	Recentrage\n 	Echauffement\n 	Vinyasa flow\n 	Relaxation\n
  	Pranayamas (techniques de respiration)\n 	Méditation guidée\n 	Partage
  et échanges autour d'une boisson chaude et de petites douceurs\n\nRéser
 vation &amp\; Billetterie\nTarifs\nTarif régulier : 35€\n\nBillet modif
 iable  jusqu’à 48h avant l’événement\, passé ce délai aucun remb
 oursement ne pourra être accordé.\n\nTarif étudiants : 25€\n\nFournir
  un justificatif par mail à l’adresse info@marinecarree.fr\nBilletterie
 \n\n\n\n\n 	Réserver\n 	\n 	\n\nBilletterie évènement\n\nTarif régulie
 r - Evenement \nBillet valable pour un Atelier mensuel ou un atelier Yoga 
 x Voyage Sonore Conditions d'annulation...\n35\,00€\nRéserver\n\n\nVoir
  le produit\n\n\n\n\n\n 	Réserver\n 	\n 	\n\nBilletterie évènement\n\nT
 arif étudiants - Evénement \nTarif réservé aux étudiants sur présent
 ation d'un justificatif (à me faire parvenir par email). Billet...\n25\,0
 0€\nRéserver\n\n\nVoir le produit
ATTACH;FMTTYPE=image/jpeg:https://marinecarree.fr/wp-content/uploads/2024/
 08/IMG_2016_VSCO-2-scaled.jpg
CATEGORIES:Atelier
LOCATION:Salle des Prébendes\, 5 impasse 3 rue René Boylesve\, Tours\, 37
 000\, France
GEO:47.385769;0.687391
X-APPLE-STRUCTURED-LOCATION;VALUE=URI;X-ADDRESS=5 impasse 3 rue René Boyle
 sve\, Tours\, 37000\, France;X-APPLE-RADIUS=100;X-TITLE=Salle des Prébend
 es:geo:47.385769,0.687391
END:VEVENT
BEGIN:VTIMEZONE
TZID:Europe/Paris
X-LIC-LOCATION:Europe/Paris
BEGIN:STANDARD
DTSTART:20241027T020000
TZOFFSETFROM:+0200
TZOFFSETTO:+0100
TZNAME:CET
END:STANDARD
END:VTIMEZONE
END:VCALENDAR