BEGIN:VCALENDAR
VERSION:2.0
PRODID:-//wp-events-plugin.com//7.2.3.1//EN
TZID:Europe/Paris
X-WR-TIMEZONE:Europe/Paris
BEGIN:VEVENT
UID:860@marinecarree.fr
DTSTART;TZID=Europe/Paris:20260327T093000
DTEND;TZID=Europe/Paris:20260327T110000
DTSTAMP:20260306T173756Z
URL:https://marinecarree.fr/evenements/%f0%9f%8f%a5-clinique-ronsard-yoga-
 doux-senior-2026-03-27/
SUMMARY:🏥 Clinique Ronsard - Yoga doux / senior
DESCRIPTION:Cours réservé aux patients de l'hôpital de jour de la Cliniq
 ue Ronsard à Chambray-les-Tours.
ATTACH;FMTTYPE=image/jpeg:https://marinecarree.fr/wp-content/uploads/2026/
 03/yoga-clinique-ronsard-scaled.jpeg
CATEGORIES:Cours de yoga
LOCATION:Clinique Ronsard\, 3 rue Tony Lainé\, Chambray-lès-Tours \, 3717
 0\, France
GEO:47.33294;0.691417
X-APPLE-STRUCTURED-LOCATION;VALUE=URI;X-ADDRESS=3 rue Tony Lainé\, Chambra
 y-lès-Tours \, 37170\, France;X-APPLE-RADIUS=100;X-TITLE=Clinique Ronsard
 :geo:47.33294,0.691417
END:VEVENT
BEGIN:VTIMEZONE
TZID:Europe/Paris
X-LIC-LOCATION:Europe/Paris
BEGIN:STANDARD
DTSTART:20251026T020000
TZOFFSETFROM:+0200
TZOFFSETTO:+0100
TZNAME:CET
END:STANDARD
END:VTIMEZONE
END:VCALENDAR